BEGIN:VCALENDAR
VERSION:2.0
PRODID:-//Maine Veterans Project - ECPv6.15.20//NONSGML v1.0//EN
CALSCALE:GREGORIAN
METHOD:PUBLISH
X-ORIGINAL-URL:https://maineveteransproject.org
X-WR-CALDESC:Events for Maine Veterans Project
REFRESH-INTERVAL;VALUE=DURATION:PT1H
X-Robots-Tag:noindex
X-PUBLISHED-TTL:PT1H
BEGIN:VTIMEZONE
TZID:America/New_York
BEGIN:DAYLIGHT
TZOFFSETFROM:-0500
TZOFFSETTO:-0400
TZNAME:EDT
DTSTART:20230312T070000
END:DAYLIGHT
BEGIN:STANDARD
TZOFFSETFROM:-0400
TZOFFSETTO:-0500
TZNAME:EST
DTSTART:20231105T060000
END:STANDARD
BEGIN:DAYLIGHT
TZOFFSETFROM:-0500
TZOFFSETTO:-0400
TZNAME:EDT
DTSTART:20240310T070000
END:DAYLIGHT
BEGIN:STANDARD
TZOFFSETFROM:-0400
TZOFFSETTO:-0500
TZNAME:EST
DTSTART:20241103T060000
END:STANDARD
BEGIN:DAYLIGHT
TZOFFSETFROM:-0500
TZOFFSETTO:-0400
TZNAME:EDT
DTSTART:20250309T070000
END:DAYLIGHT
BEGIN:STANDARD
TZOFFSETFROM:-0400
TZOFFSETTO:-0500
TZNAME:EST
DTSTART:20251102T060000
END:STANDARD
END:VTIMEZONE
BEGIN:VEVENT
DTSTART;TZID=America/New_York:20240721T120000
DTEND;TZID=America/New_York:20240721T150000
DTSTAMP:20260425T221706
CREATED:20240430T183807Z
LAST-MODIFIED:20240722T210750Z
UID:10000023-1721563200-1721574000@maineveteransproject.org
SUMMARY:Paintball at Maine Military Supply
DESCRIPTION:Come join the MVP team for a fun afternoon of paintball. Maine Military Supply has the masks and rental fees covered and we’ve had a blast for many years.\nVeterans are welcome to bring a guest of choice
URL:https://maineveteransproject.org/event/paintball-at-maine-military-supply/2024-07-21/
LOCATION:Maine Millitray Supply Inc\, 179 Main St\, Holden\, ME\, 04412\, United States
CATEGORIES:Event
ATTACH;FMTTYPE=image/jpeg:https://maineveteransproject.org/wp-content/uploads/2024/04/342971264_1001704374146613_8438984836794529498_n.jpg
END:VEVENT
BEGIN:VEVENT
DTSTART;TZID=America/New_York:20240727T150000
DTEND;TZID=America/New_York:20240727T170000
DTSTAMP:20260425T221706
CREATED:20240722T211122Z
LAST-MODIFIED:20240722T211122Z
UID:10000036-1722092400-1722099600@maineveteransproject.org
SUMMARY:SMOKE & STEEL TO HOST AXE THROWING
DESCRIPTION:MVP IS TEAMING UP WITH \nSMOKE & STEEL \nTO HOST \nAXE THROWING
URL:https://maineveteransproject.org/event/smoke-steel-to-host-axe-throwing/
LOCATION:ME
CATEGORIES:Event
ATTACH;FMTTYPE=image/png:https://maineveteransproject.org/wp-content/uploads/2024/07/Smoke-Steel-Axe-Throwing-1.png
END:VEVENT
BEGIN:VEVENT
DTSTART;TZID=America/New_York:20240727T160000
DTEND;TZID=America/New_York:20240727T200000
DTSTAMP:20260425T221706
CREATED:20240716T150944Z
LAST-MODIFIED:20240716T150944Z
UID:10000033-1722096000-1722110400@maineveteransproject.org
SUMMARY:Inaugural Bike Night
DESCRIPTION:Inaugural BIKE NIGHT! \nPRESENTED Exiles MC \nJULY 27TH \n4-8 PM \nLIVE MUSIC!! \nPORTION OF PROCEEDS TO BENEFIC THE MAINE VETERANS PROJECT \nCorn hole tournament 50/50 RAFFLES AND more! \nFor more Information please call: Rob 207-385-6828
URL:https://maineveteransproject.org/event/inaugural-bike-night/
LOCATION:ME
CATEGORIES:Event
ATTACH;FMTTYPE=image/jpeg:https://maineveteransproject.org/wp-content/uploads/2024/07/449413383_1008255274130879_3705066416502756230_n.jpg
END:VEVENT
END:VCALENDAR