BEGIN:VCALENDAR
VERSION:2.0
PRODID:-//Maine Veterans Project - ECPv6.15.20//NONSGML v1.0//EN
CALSCALE:GREGORIAN
METHOD:PUBLISH
X-ORIGINAL-URL:https://maineveteransproject.org
X-WR-CALDESC:Events for Maine Veterans Project
REFRESH-INTERVAL;VALUE=DURATION:PT1H
X-Robots-Tag:noindex
X-PUBLISHED-TTL:PT1H
BEGIN:VTIMEZONE
TZID:America/New_York
BEGIN:DAYLIGHT
TZOFFSETFROM:-0500
TZOFFSETTO:-0400
TZNAME:EDT
DTSTART:20230312T070000
END:DAYLIGHT
BEGIN:STANDARD
TZOFFSETFROM:-0400
TZOFFSETTO:-0500
TZNAME:EST
DTSTART:20231105T060000
END:STANDARD
BEGIN:DAYLIGHT
TZOFFSETFROM:-0500
TZOFFSETTO:-0400
TZNAME:EDT
DTSTART:20240310T070000
END:DAYLIGHT
BEGIN:STANDARD
TZOFFSETFROM:-0400
TZOFFSETTO:-0500
TZNAME:EST
DTSTART:20241103T060000
END:STANDARD
BEGIN:DAYLIGHT
TZOFFSETFROM:-0500
TZOFFSETTO:-0400
TZNAME:EDT
DTSTART:20250309T070000
END:DAYLIGHT
BEGIN:STANDARD
TZOFFSETFROM:-0400
TZOFFSETTO:-0500
TZNAME:EST
DTSTART:20251102T060000
END:STANDARD
END:VTIMEZONE
BEGIN:VEVENT
DTSTART;TZID=America/New_York:20240922T110000
DTEND;TZID=America/New_York:20240922T130000
DTSTAMP:20260425T185342
CREATED:20240430T183807Z
LAST-MODIFIED:20240722T210750Z
UID:10000035-1727002800-1727010000@maineveteransproject.org
SUMMARY:Paintball at Maine Military Supply
DESCRIPTION:Come join the MVP team for a fun afternoon of paintball. Maine Military Supply has the masks and rental fees covered and we’ve had a blast for many years.\nVeterans are welcome to bring a guest of choice
URL:https://maineveteransproject.org/event/paintball-at-maine-military-supply/2024-09-22/
LOCATION:Maine Millitray Supply Inc\, 179 Main St\, Holden\, ME\, 04412\, United States
CATEGORIES:Event
ATTACH;FMTTYPE=image/jpeg:https://maineveteransproject.org/wp-content/uploads/2024/04/342971264_1001704374146613_8438984836794529498_n.jpg
END:VEVENT
BEGIN:VEVENT
DTSTART;TZID=America/New_York:20240928T140000
DTEND;TZID=America/New_York:20240928T220000
DTSTAMP:20260425T185342
CREATED:20240812T212248Z
LAST-MODIFIED:20240812T212248Z
UID:10000037-1727532000-1727560800@maineveteransproject.org
SUMMARY:2024 Ed Sheffer INK & IRON Fest!
DESCRIPTION:Get ready to mark your calendars for the 2024 Ed Sheffer INK & IRON Fest! This unique event and fundraiser for local Veterans will be back and better than ever!\nJoin us on a SATURDAY (!!) this year for a day AND evening filled with fun and entertainment. We’ve got everything you need to make this an unforgettable experience\, from a tattoo contest to a vendor social\, a car show\, a bike show\, silent auction and live music into the night by Nothing New and Dakota!\nAll proceeds go to the Maine Veterans Project!\nSo save the date and get ready for an event like no other. The INK & IRON Fest is not to be missed\, and we can’t wait to see you there!\nFor event schedule\, contest info and more details\, visit bangortattoo.com!
URL:https://maineveteransproject.org/event/2024-ed-sheffer-ink-iron-fest/
LOCATION:Jeff’s Catering & Event Center\, 15 Event Center Way\, Brewer\, ME\, 04412\, United States
CATEGORIES:Event,Fundraiser
ATTACH;FMTTYPE=image/jpeg:https://maineveteransproject.org/wp-content/uploads/2024/08/450634310_1005205667642717_6630753276341316706_n.jpg
END:VEVENT
END:VCALENDAR