BEGIN:VCALENDAR
VERSION:2.0
PRODID:-//Maine Veterans Project - ECPv6.15.20//NONSGML v1.0//EN
CALSCALE:GREGORIAN
METHOD:PUBLISH
X-ORIGINAL-URL:https://maineveteransproject.org
X-WR-CALDESC:Events for Maine Veterans Project
REFRESH-INTERVAL;VALUE=DURATION:PT1H
X-Robots-Tag:noindex
X-PUBLISHED-TTL:PT1H
BEGIN:VTIMEZONE
TZID:America/New_York
BEGIN:DAYLIGHT
TZOFFSETFROM:-0500
TZOFFSETTO:-0400
TZNAME:EDT
DTSTART:20240310T070000
END:DAYLIGHT
BEGIN:STANDARD
TZOFFSETFROM:-0400
TZOFFSETTO:-0500
TZNAME:EST
DTSTART:20241103T060000
END:STANDARD
BEGIN:DAYLIGHT
TZOFFSETFROM:-0500
TZOFFSETTO:-0400
TZNAME:EDT
DTSTART:20250309T070000
END:DAYLIGHT
BEGIN:STANDARD
TZOFFSETFROM:-0400
TZOFFSETTO:-0500
TZNAME:EST
DTSTART:20251102T060000
END:STANDARD
BEGIN:DAYLIGHT
TZOFFSETFROM:-0500
TZOFFSETTO:-0400
TZNAME:EDT
DTSTART:20260308T070000
END:DAYLIGHT
BEGIN:STANDARD
TZOFFSETFROM:-0400
TZOFFSETTO:-0500
TZNAME:EST
DTSTART:20261101T060000
END:STANDARD
END:VTIMEZONE
BEGIN:VEVENT
DTSTART;TZID=America/New_York:20251204T140000
DTEND;TZID=America/New_York:20251204T170000
DTSTAMP:20260424T165101
CREATED:20251118T041714Z
LAST-MODIFIED:20251118T041714Z
UID:10000052-1764856800-1764867600@maineveteransproject.org
SUMMARY:Beer Night
DESCRIPTION:
URL:https://maineveteransproject.org/event/beer-night/
LOCATION:Marsh Island Kitchen\, 55 Hampden Rd\, Hampden\, ME\, 04444\, United States
CATEGORIES:Event
ATTACH;FMTTYPE=image/png:https://maineveteransproject.org/wp-content/uploads/2025/11/beer-day.png
END:VEVENT
BEGIN:VEVENT
DTSTART;TZID=America/New_York:20251213T150000
DTEND;TZID=America/New_York:20251213T180000
DTSTAMP:20260424T165101
CREATED:20251118T041220Z
LAST-MODIFIED:20251118T041220Z
UID:10000050-1765638000-1765648800@maineveteransproject.org
SUMMARY:Army / Navy Football
DESCRIPTION:
URL:https://maineveteransproject.org/event/army-navy-football/
LOCATION:The Pour House\, 14 Larkin St\, Bangor\, ME\, 04401\, United States
CATEGORIES:Event
ATTACH;FMTTYPE=image/png:https://maineveteransproject.org/wp-content/uploads/2025/11/Army-vs-Navy-2025.png
END:VEVENT
END:VCALENDAR