BEGIN:VCALENDAR
VERSION:2.0
PRODID:-//Maine Veterans Project - ECPv6.15.20//NONSGML v1.0//EN
CALSCALE:GREGORIAN
METHOD:PUBLISH
X-WR-CALNAME:Maine Veterans Project
X-ORIGINAL-URL:https://maineveteransproject.org
X-WR-CALDESC:Events for Maine Veterans Project
REFRESH-INTERVAL;VALUE=DURATION:PT1H
X-Robots-Tag:noindex
X-PUBLISHED-TTL:PT1H
BEGIN:VTIMEZONE
TZID:America/New_York
BEGIN:DAYLIGHT
TZOFFSETFROM:-0500
TZOFFSETTO:-0400
TZNAME:EDT
DTSTART:20230312T070000
END:DAYLIGHT
BEGIN:STANDARD
TZOFFSETFROM:-0400
TZOFFSETTO:-0500
TZNAME:EST
DTSTART:20231105T060000
END:STANDARD
BEGIN:DAYLIGHT
TZOFFSETFROM:-0500
TZOFFSETTO:-0400
TZNAME:EDT
DTSTART:20240310T070000
END:DAYLIGHT
BEGIN:STANDARD
TZOFFSETFROM:-0400
TZOFFSETTO:-0500
TZNAME:EST
DTSTART:20241103T060000
END:STANDARD
BEGIN:DAYLIGHT
TZOFFSETFROM:-0500
TZOFFSETTO:-0400
TZNAME:EDT
DTSTART:20250309T070000
END:DAYLIGHT
BEGIN:STANDARD
TZOFFSETFROM:-0400
TZOFFSETTO:-0500
TZNAME:EST
DTSTART:20251102T060000
END:STANDARD
END:VTIMEZONE
BEGIN:VEVENT
DTSTART;TZID=America/New_York:20240721T120000
DTEND;TZID=America/New_York:20240721T150000
DTSTAMP:20260425T235129
CREATED:20240430T183807Z
LAST-MODIFIED:20240722T210750Z
UID:10000023-1721563200-1721574000@maineveteransproject.org
SUMMARY:Paintball at Maine Military Supply
DESCRIPTION:Come join the MVP team for a fun afternoon of paintball. Maine Military Supply has the masks and rental fees covered and we’ve had a blast for many years.\nVeterans are welcome to bring a guest of choice
URL:https://maineveteransproject.org/event/paintball-at-maine-military-supply/2024-07-21/
LOCATION:Maine Millitray Supply Inc\, 179 Main St\, Holden\, ME\, 04412\, United States
CATEGORIES:Event
ATTACH;FMTTYPE=image/jpeg:https://maineveteransproject.org/wp-content/uploads/2024/04/342971264_1001704374146613_8438984836794529498_n.jpg
END:VEVENT
END:VCALENDAR