BEGIN:VCALENDAR
VERSION:2.0
PRODID:-//Maine Veterans Project - ECPv6.15.20//NONSGML v1.0//EN
CALSCALE:GREGORIAN
METHOD:PUBLISH
X-ORIGINAL-URL:https://maineveteransproject.org
X-WR-CALDESC:Events for Maine Veterans Project
REFRESH-INTERVAL;VALUE=DURATION:PT1H
X-Robots-Tag:noindex
X-PUBLISHED-TTL:PT1H
BEGIN:VTIMEZONE
TZID:America/New_York
BEGIN:DAYLIGHT
TZOFFSETFROM:-0500
TZOFFSETTO:-0400
TZNAME:EDT
DTSTART:20240310T070000
END:DAYLIGHT
BEGIN:STANDARD
TZOFFSETFROM:-0400
TZOFFSETTO:-0500
TZNAME:EST
DTSTART:20241103T060000
END:STANDARD
BEGIN:DAYLIGHT
TZOFFSETFROM:-0500
TZOFFSETTO:-0400
TZNAME:EDT
DTSTART:20250309T070000
END:DAYLIGHT
BEGIN:STANDARD
TZOFFSETFROM:-0400
TZOFFSETTO:-0500
TZNAME:EST
DTSTART:20251102T060000
END:STANDARD
BEGIN:DAYLIGHT
TZOFFSETFROM:-0500
TZOFFSETTO:-0400
TZNAME:EDT
DTSTART:20260308T070000
END:DAYLIGHT
BEGIN:STANDARD
TZOFFSETFROM:-0400
TZOFFSETTO:-0500
TZNAME:EST
DTSTART:20261101T060000
END:STANDARD
END:VTIMEZONE
BEGIN:VEVENT
DTSTART;TZID=America/New_York:20250427T110000
DTEND;TZID=America/New_York:20250427T130000
DTSTAMP:20260425T062036
CREATED:20250320T000620Z
LAST-MODIFIED:20250320T000733Z
UID:10000041-1745751600-1745758800@maineveteransproject.org
SUMMARY:MVP BABY SHOWER
DESCRIPTION:MVP\nBABY SHOWER\nHONORING\nANTHONY & SARAH\nAPRIL 27TH AT 11AM TO 1PM\n5 S MAIN ST\, BREWER\, ME\n04412
URL:https://maineveteransproject.org/event/mvp-baby-shower/
LOCATION:High Tide\, 5 S Main Street\, Brewer\, ME\, 04412\, United States
CATEGORIES:Event
ATTACH;FMTTYPE=image/png:https://maineveteransproject.org/wp-content/uploads/2025/03/Baby-Shower.png
END:VEVENT
END:VCALENDAR