BEGIN:VCALENDAR
VERSION:2.0
PRODID:-//Maine Veterans Project - ECPv6.15.20//NONSGML v1.0//EN
CALSCALE:GREGORIAN
METHOD:PUBLISH
X-ORIGINAL-URL:https://maineveteransproject.org
X-WR-CALDESC:Events for Maine Veterans Project
REFRESH-INTERVAL;VALUE=DURATION:PT1H
X-Robots-Tag:noindex
X-PUBLISHED-TTL:PT1H
BEGIN:VTIMEZONE
TZID:America/New_York
BEGIN:DAYLIGHT
TZOFFSETFROM:-0500
TZOFFSETTO:-0400
TZNAME:EDT
DTSTART:20250309T070000
END:DAYLIGHT
BEGIN:STANDARD
TZOFFSETFROM:-0400
TZOFFSETTO:-0500
TZNAME:EST
DTSTART:20251102T060000
END:STANDARD
BEGIN:DAYLIGHT
TZOFFSETFROM:-0500
TZOFFSETTO:-0400
TZNAME:EDT
DTSTART:20260308T070000
END:DAYLIGHT
BEGIN:STANDARD
TZOFFSETFROM:-0400
TZOFFSETTO:-0500
TZNAME:EST
DTSTART:20261101T060000
END:STANDARD
BEGIN:DAYLIGHT
TZOFFSETFROM:-0500
TZOFFSETTO:-0400
TZNAME:EDT
DTSTART:20270314T070000
END:DAYLIGHT
BEGIN:STANDARD
TZOFFSETFROM:-0400
TZOFFSETTO:-0500
TZNAME:EST
DTSTART:20271107T060000
END:STANDARD
END:VTIMEZONE
BEGIN:VEVENT
DTSTART;TZID=America/New_York:20260412T120000
DTEND;TZID=America/New_York:20260412T150000
DTSTAMP:20260424T115636
CREATED:20260331T140927Z
LAST-MODIFIED:20260331T140927Z
UID:10000054-1775995200-1776006000@maineveteransproject.org
SUMMARY:'Till I Get Home - Veterans Benefit and Release Event
DESCRIPTION:Live music featuring Rob Bibber.  With special guests\, Jake\, Irish\,\, and Shiny Objects.  Proceeds benefiting Maine veterans project. Donations accepted at the door.
URL:https://maineveteransproject.org/event/till-i-get-home-veterans-benefit-and-release-event/
LOCATION:Elks Lodge\, 108 Odlin Rd\, Bangor\, ME\, 04401\, United States
CATEGORIES:Event,Fundraiser
ATTACH;FMTTYPE=image/png:https://maineveteransproject.org/wp-content/uploads/2026/03/1000012870-1.png
END:VEVENT
END:VCALENDAR