BEGIN:VCALENDAR
VERSION:2.0
PRODID:-//Maine Veterans Project - ECPv6.15.20//NONSGML v1.0//EN
CALSCALE:GREGORIAN
METHOD:PUBLISH
X-ORIGINAL-URL:https://maineveteransproject.org
X-WR-CALDESC:Events for Maine Veterans Project
REFRESH-INTERVAL;VALUE=DURATION:PT1H
X-Robots-Tag:noindex
X-PUBLISHED-TTL:PT1H
BEGIN:VTIMEZONE
TZID:America/New_York
BEGIN:DAYLIGHT
TZOFFSETFROM:-0500
TZOFFSETTO:-0400
TZNAME:EDT
DTSTART:20220313T070000
END:DAYLIGHT
BEGIN:STANDARD
TZOFFSETFROM:-0400
TZOFFSETTO:-0500
TZNAME:EST
DTSTART:20221106T060000
END:STANDARD
BEGIN:DAYLIGHT
TZOFFSETFROM:-0500
TZOFFSETTO:-0400
TZNAME:EDT
DTSTART:20230312T070000
END:DAYLIGHT
BEGIN:STANDARD
TZOFFSETFROM:-0400
TZOFFSETTO:-0500
TZNAME:EST
DTSTART:20231105T060000
END:STANDARD
BEGIN:DAYLIGHT
TZOFFSETFROM:-0500
TZOFFSETTO:-0400
TZNAME:EDT
DTSTART:20240310T070000
END:DAYLIGHT
BEGIN:STANDARD
TZOFFSETFROM:-0400
TZOFFSETTO:-0500
TZNAME:EST
DTSTART:20241103T060000
END:STANDARD
BEGIN:DAYLIGHT
TZOFFSETFROM:-0500
TZOFFSETTO:-0400
TZNAME:EDT
DTSTART:20250309T070000
END:DAYLIGHT
BEGIN:STANDARD
TZOFFSETFROM:-0400
TZOFFSETTO:-0500
TZNAME:EST
DTSTART:20251102T060000
END:STANDARD
BEGIN:DAYLIGHT
TZOFFSETFROM:-0500
TZOFFSETTO:-0400
TZNAME:EDT
DTSTART:20260308T070000
END:DAYLIGHT
BEGIN:STANDARD
TZOFFSETFROM:-0400
TZOFFSETTO:-0500
TZNAME:EST
DTSTART:20261101T060000
END:STANDARD
END:VTIMEZONE
BEGIN:VEVENT
DTSTART;TZID=America/New_York:20251213T150000
DTEND;TZID=America/New_York:20251213T180000
DTSTAMP:20260424T120043
CREATED:20251118T041220Z
LAST-MODIFIED:20251118T041220Z
UID:10000050-1765638000-1765648800@maineveteransproject.org
SUMMARY:Army / Navy Football
DESCRIPTION:
URL:https://maineveteransproject.org/event/army-navy-football/
LOCATION:The Pour House\, 14 Larkin St\, Bangor\, ME\, 04401\, United States
CATEGORIES:Event
ATTACH;FMTTYPE=image/png:https://maineveteransproject.org/wp-content/uploads/2025/11/Army-vs-Navy-2025.png
END:VEVENT
BEGIN:VEVENT
DTSTART;TZID=America/New_York:20251204T140000
DTEND;TZID=America/New_York:20251204T170000
DTSTAMP:20260424T120043
CREATED:20251118T041714Z
LAST-MODIFIED:20251118T041714Z
UID:10000052-1764856800-1764867600@maineveteransproject.org
SUMMARY:Beer Night
DESCRIPTION:
URL:https://maineveteransproject.org/event/beer-night/
LOCATION:Marsh Island Kitchen\, 55 Hampden Rd\, Hampden\, ME\, 04444\, United States
CATEGORIES:Event
ATTACH;FMTTYPE=image/png:https://maineveteransproject.org/wp-content/uploads/2025/11/beer-day.png
END:VEVENT
BEGIN:VEVENT
DTSTART;TZID=America/New_York:20251122T100000
DTEND;TZID=America/New_York:20251122T170000
DTSTAMP:20260424T120043
CREATED:20251118T041505Z
LAST-MODIFIED:20251118T041505Z
UID:10000051-1763805600-1763830800@maineveteransproject.org
SUMMARY:Thanksgiving Distribution Event
DESCRIPTION:
URL:https://maineveteransproject.org/event/thanksgiving-distribution-event/
LOCATION:Elks Lodge\, 108 Odlin Rd\, Bangor\, ME\, 04401\, United States
CATEGORIES:Event,Fundraiser
ATTACH;FMTTYPE=image/png:https://maineveteransproject.org/wp-content/uploads/2025/11/Thanksgiving-resource-give-out-3.png
END:VEVENT
BEGIN:VEVENT
DTSTART;TZID=America/New_York:20250914T100000
DTEND;TZID=America/New_York:20250914T120000
DTSTAMP:20260424T120043
CREATED:20250514T214034Z
LAST-MODIFIED:20250514T214034Z
UID:10000049-1757844000-1757851200@maineveteransproject.org
SUMMARY:MVP Paintball Event
DESCRIPTION:
URL:https://maineveteransproject.org/event/mvp-paintball-event-2/
LOCATION:Maine Millitray Supply Inc\, 179 Main St\, Holden\, ME\, 04412\, United States
CATEGORIES:Event
ATTACH;FMTTYPE=image/png:https://maineveteransproject.org/wp-content/uploads/2023/07/Screenshot-2023-07-31-at-6.36.37-PM.png
END:VEVENT
BEGIN:VEVENT
DTSTART;TZID=America/New_York:20250824T150000
DTEND;TZID=America/New_York:20250824T170000
DTSTAMP:20260424T120043
CREATED:20250502T211806Z
LAST-MODIFIED:20250502T211806Z
UID:10000046-1756047600-1756054800@maineveteransproject.org
SUMMARY:MVP IS TEAMING UP WITH SMOKE & STEEL TO HOST AXE THROWING
DESCRIPTION:MVP IS TEAMING UP WITH\nSMOKE & STEEL\nTO HOST\nAXE THROWING
URL:https://maineveteransproject.org/event/mvp-is-teaming-up-with-smoke-steel-to-host-axe-throwing/
LOCATION:Smoke and Steel\, 471 Stillwater Ave\, Bangor\, ME\, 04401\, United States
CATEGORIES:Event
ATTACH;FMTTYPE=image/png:https://maineveteransproject.org/wp-content/uploads/2025/05/Smoke-Steel-Axe-Throwing-2.png
END:VEVENT
BEGIN:VEVENT
DTSTART;TZID=America/New_York:20250816T100000
DTEND;TZID=America/New_York:20250816T140000
DTSTAMP:20260424T120043
CREATED:20250502T211439Z
LAST-MODIFIED:20250512T144237Z
UID:10000044-1755338400-1755352800@maineveteransproject.org
SUMMARY:MAINE VETERANS PROJECT RESOURCE GIVE AWAY
DESCRIPTION:OTHER ORGANIZATIONS+ WILL BE ON SITE TO GIVE OUT MORE\nINFORMATION AND RESOURCES \nNONPERISHABLE FOOD
URL:https://maineveteransproject.org/event/maine-veterans-project-resource-give-away-2/
LOCATION:Jeff’s Catering & Event Center\, 15 Event Center Way\, Brewer\, ME\, 04412\, United States
CATEGORIES:Event
ATTACH;FMTTYPE=image/png:https://maineveteransproject.org/wp-content/uploads/2025/05/summer-resource-give-out_20250502_172931_0000-1.png
END:VEVENT
BEGIN:VEVENT
DTSTART;VALUE=DATE:20250728
DTEND;VALUE=DATE:20250816
DTSTAMP:20260424T120043
CREATED:20250502T211113Z
LAST-MODIFIED:20250502T211113Z
UID:10000043-1753660800-1755302399@maineveteransproject.org
SUMMARY:MVP SUMMER FOOD DRIVE
DESCRIPTION:WE ARE\nHOSTING A FOOD\nDRIVE FOR LOCAL VETERANS. \nNON\nEXPIRED\nCANNED GOODS AND PASTA
URL:https://maineveteransproject.org/event/mvp-summer-food-drive/
LOCATION:Cole Transportation Museum\, 405 Perry Rd\, Bangor\, ME\, 04401\, United States
CATEGORIES:Event
ATTACH;FMTTYPE=image/png:https://maineveteransproject.org/wp-content/uploads/2025/05/summer-food-drive.png
END:VEVENT
BEGIN:VEVENT
DTSTART;TZID=America/New_York:20250720T100000
DTEND;TZID=America/New_York:20250720T120000
DTSTAMP:20260424T120043
CREATED:20250502T211604Z
LAST-MODIFIED:20250512T143903Z
UID:10000045-1753005600-1753012800@maineveteransproject.org
SUMMARY:MVP Paintball Event
DESCRIPTION:
URL:https://maineveteransproject.org/event/mvp-paintball-event/
LOCATION:Maine Millitray Supply Inc\, 179 Main St\, Holden\, ME\, 04412\, United States
CATEGORIES:Event
ATTACH;FMTTYPE=image/png:https://maineveteransproject.org/wp-content/uploads/2023/07/Screenshot-2023-07-31-at-6.36.37-PM.png
END:VEVENT
BEGIN:VEVENT
DTSTART;TZID=America/New_York:20250718T120000
DTEND;TZID=America/New_York:20250718T140000
DTSTAMP:20260424T120043
CREATED:20250502T212141Z
LAST-MODIFIED:20250502T212141Z
UID:10000047-1752840000-1752847200@maineveteransproject.org
SUMMARY:Barbecue Grill Party
DESCRIPTION:Join us for our barbecue grill party they’ll be hotdogs and burgers see you there.
URL:https://maineveteransproject.org/event/barbecue-grill-party/
LOCATION:Vet Center\, 615 Odlin Rd Suite 3\, Bangor\, ME\, 04401\, United States
CATEGORIES:Event
ATTACH;FMTTYPE=image/png:https://maineveteransproject.org/wp-content/uploads/2025/05/July-Vet-center-cook-out.png
END:VEVENT
BEGIN:VEVENT
DTSTART;TZID=America/New_York:20250620T120000
DTEND;TZID=America/New_York:20250620T140000
DTSTAMP:20260424T120043
CREATED:20250502T212523Z
LAST-MODIFIED:20250502T212523Z
UID:10000048-1750420800-1750428000@maineveteransproject.org
SUMMARY:Barbecue Grill Party
DESCRIPTION:Join us for our barbecue grill party they’ll be hotdogs and burgers see you there.
URL:https://maineveteransproject.org/event/barbecue-grill-party-2/
LOCATION:Vet Center\, 615 Odlin Rd Suite 3\, Bangor\, ME\, 04401\, United States
CATEGORIES:Event
ATTACH;FMTTYPE=image/png:https://maineveteransproject.org/wp-content/uploads/2025/05/June-vet-center-cook-out.png
END:VEVENT
BEGIN:VEVENT
DTSTART;TZID=America/New_York:20250427T110000
DTEND;TZID=America/New_York:20250427T130000
DTSTAMP:20260424T120043
CREATED:20250320T000620Z
LAST-MODIFIED:20250320T000733Z
UID:10000041-1745751600-1745758800@maineveteransproject.org
SUMMARY:MVP BABY SHOWER
DESCRIPTION:MVP\nBABY SHOWER\nHONORING\nANTHONY & SARAH\nAPRIL 27TH AT 11AM TO 1PM\n5 S MAIN ST\, BREWER\, ME\n04412
URL:https://maineveteransproject.org/event/mvp-baby-shower/
LOCATION:High Tide\, 5 S Main Street\, Brewer\, ME\, 04412\, United States
CATEGORIES:Event
ATTACH;FMTTYPE=image/png:https://maineveteransproject.org/wp-content/uploads/2025/03/Baby-Shower.png
END:VEVENT
BEGIN:VEVENT
DTSTART;TZID=America/New_York:20250223T100000
DTEND;TZID=America/New_York:20250223T150000
DTSTAMP:20260424T120043
CREATED:20250210T144657Z
LAST-MODIFIED:20250210T144657Z
UID:10000040-1740304800-1740322800@maineveteransproject.org
SUMMARY:Maine Veterans Project Resource Give Away
DESCRIPTION:
URL:https://maineveteransproject.org/event/maine-veterans-project-resource-give-away/
LOCATION:Jeff’s Catering & Event Center\, 15 Event Center Way\, Brewer\, ME\, 04412\, United States
CATEGORIES:Event
ATTACH;FMTTYPE=image/png:https://maineveteransproject.org/wp-content/uploads/2025/02/resource-give-out-at-Jeffs-catering.png
END:VEVENT
BEGIN:VEVENT
DTSTART;TZID=America/New_York:20241214T150000
DTEND;TZID=America/New_York:20241214T200000
DTSTAMP:20260424T120043
CREATED:20241212T001941Z
LAST-MODIFIED:20241212T001941Z
UID:10000039-1734188400-1734206400@maineveteransproject.org
SUMMARY:Army vs. Navy
DESCRIPTION:14TH DECMEBER\n14 LARKIN St\,\nSHOW UP AN HOUR\nAT 3:00 PM\nBANGOR\, ME 04401\nBEFORE THE GAME
URL:https://maineveteransproject.org/event/army-vs-navy/
LOCATION:The Pour House\, 14 Larkin St\, Bangor\, ME\, 04401\, United States
CATEGORIES:Event
ATTACH;FMTTYPE=image/png:https://maineveteransproject.org/wp-content/uploads/2024/12/Army-vs-Navy-2024-1.png
END:VEVENT
BEGIN:VEVENT
DTSTART;TZID=America/New_York:20241124T080000
DTEND;TZID=America/New_York:20241124T170000
DTSTAMP:20260424T120043
CREATED:20241118T154852Z
LAST-MODIFIED:20241118T154941Z
UID:10000038-1732435200-1732467600@maineveteransproject.org
SUMMARY:Distribution Event
DESCRIPTION:Please join us for a….. Veterans Thanksgiving Food Distribution Event.
URL:https://maineveteransproject.org/event/distribution-event/
LOCATION:Maine Veterans Project\, 207 Parkview Ave\, ME\, 04401\, United States
CATEGORIES:Event
ATTACH;FMTTYPE=image/png:https://maineveteransproject.org/wp-content/uploads/2024/11/thanksgiving-food-give-away-1.png
END:VEVENT
BEGIN:VEVENT
DTSTART;TZID=America/New_York:20241006T110000
DTEND;TZID=America/New_York:20241006T130000
DTSTAMP:20260424T120043
CREATED:20240722T210839Z
LAST-MODIFIED:20240722T210839Z
UID:10000026-1728212400-1728219600@maineveteransproject.org
SUMMARY:Paintball at Maine Military Supply
DESCRIPTION:Come join the MVP team for a fun afternoon of paintball. Maine Military Supply has the masks and rental fees covered and we’ve had a blast for many years.\nVeterans are welcome to bring a guest of choice
URL:https://maineveteransproject.org/event/paintball-at-maine-military-supply-2/
LOCATION:Maine Millitray Supply Inc\, 179 Main St\, Holden\, ME\, 04412\, United States
CATEGORIES:Event
ATTACH;FMTTYPE=image/jpeg:https://maineveteransproject.org/wp-content/uploads/2024/04/342971264_1001704374146613_8438984836794529498_n.jpg
END:VEVENT
BEGIN:VEVENT
DTSTART;TZID=America/New_York:20240928T140000
DTEND;TZID=America/New_York:20240928T220000
DTSTAMP:20260424T120043
CREATED:20240812T212248Z
LAST-MODIFIED:20240812T212248Z
UID:10000037-1727532000-1727560800@maineveteransproject.org
SUMMARY:2024 Ed Sheffer INK & IRON Fest!
DESCRIPTION:Get ready to mark your calendars for the 2024 Ed Sheffer INK & IRON Fest! This unique event and fundraiser for local Veterans will be back and better than ever!\nJoin us on a SATURDAY (!!) this year for a day AND evening filled with fun and entertainment. We’ve got everything you need to make this an unforgettable experience\, from a tattoo contest to a vendor social\, a car show\, a bike show\, silent auction and live music into the night by Nothing New and Dakota!\nAll proceeds go to the Maine Veterans Project!\nSo save the date and get ready for an event like no other. The INK & IRON Fest is not to be missed\, and we can’t wait to see you there!\nFor event schedule\, contest info and more details\, visit bangortattoo.com!
URL:https://maineveteransproject.org/event/2024-ed-sheffer-ink-iron-fest/
LOCATION:Jeff’s Catering & Event Center\, 15 Event Center Way\, Brewer\, ME\, 04412\, United States
CATEGORIES:Event,Fundraiser
ATTACH;FMTTYPE=image/jpeg:https://maineveteransproject.org/wp-content/uploads/2024/08/450634310_1005205667642717_6630753276341316706_n.jpg
END:VEVENT
BEGIN:VEVENT
DTSTART;TZID=America/New_York:20240922T110000
DTEND;TZID=America/New_York:20240922T130000
DTSTAMP:20260424T120043
CREATED:20240430T183807Z
LAST-MODIFIED:20240722T210750Z
UID:10000035-1727002800-1727010000@maineveteransproject.org
SUMMARY:Paintball at Maine Military Supply
DESCRIPTION:Come join the MVP team for a fun afternoon of paintball. Maine Military Supply has the masks and rental fees covered and we’ve had a blast for many years.\nVeterans are welcome to bring a guest of choice
URL:https://maineveteransproject.org/event/paintball-at-maine-military-supply/2024-09-22/
LOCATION:Maine Millitray Supply Inc\, 179 Main St\, Holden\, ME\, 04412\, United States
CATEGORIES:Event
ATTACH;FMTTYPE=image/jpeg:https://maineveteransproject.org/wp-content/uploads/2024/04/342971264_1001704374146613_8438984836794529498_n.jpg
END:VEVENT
BEGIN:VEVENT
DTSTART;TZID=America/New_York:20240818T110000
DTEND;TZID=America/New_York:20240818T130000
DTSTAMP:20260424T120043
CREATED:20240430T183807Z
LAST-MODIFIED:20240722T210750Z
UID:10000034-1723978800-1723986000@maineveteransproject.org
SUMMARY:Paintball at Maine Military Supply
DESCRIPTION:Come join the MVP team for a fun afternoon of paintball. Maine Military Supply has the masks and rental fees covered and we’ve had a blast for many years.\nVeterans are welcome to bring a guest of choice
URL:https://maineveteransproject.org/event/paintball-at-maine-military-supply/2024-08-18/
LOCATION:Maine Millitray Supply Inc\, 179 Main St\, Holden\, ME\, 04412\, United States
CATEGORIES:Event
ATTACH;FMTTYPE=image/jpeg:https://maineveteransproject.org/wp-content/uploads/2024/04/342971264_1001704374146613_8438984836794529498_n.jpg
END:VEVENT
BEGIN:VEVENT
DTSTART;TZID=America/New_York:20240727T160000
DTEND;TZID=America/New_York:20240727T200000
DTSTAMP:20260424T120043
CREATED:20240716T150944Z
LAST-MODIFIED:20240716T150944Z
UID:10000033-1722096000-1722110400@maineveteransproject.org
SUMMARY:Inaugural Bike Night
DESCRIPTION:Inaugural BIKE NIGHT! \nPRESENTED Exiles MC \nJULY 27TH \n4-8 PM \nLIVE MUSIC!! \nPORTION OF PROCEEDS TO BENEFIC THE MAINE VETERANS PROJECT \nCorn hole tournament 50/50 RAFFLES AND more! \nFor more Information please call: Rob 207-385-6828
URL:https://maineveteransproject.org/event/inaugural-bike-night/
LOCATION:ME
CATEGORIES:Event
ATTACH;FMTTYPE=image/jpeg:https://maineveteransproject.org/wp-content/uploads/2024/07/449413383_1008255274130879_3705066416502756230_n.jpg
END:VEVENT
BEGIN:VEVENT
DTSTART;TZID=America/New_York:20240727T150000
DTEND;TZID=America/New_York:20240727T170000
DTSTAMP:20260424T120043
CREATED:20240722T211122Z
LAST-MODIFIED:20240722T211122Z
UID:10000036-1722092400-1722099600@maineveteransproject.org
SUMMARY:SMOKE & STEEL TO HOST AXE THROWING
DESCRIPTION:MVP IS TEAMING UP WITH \nSMOKE & STEEL \nTO HOST \nAXE THROWING
URL:https://maineveteransproject.org/event/smoke-steel-to-host-axe-throwing/
LOCATION:ME
CATEGORIES:Event
ATTACH;FMTTYPE=image/png:https://maineveteransproject.org/wp-content/uploads/2024/07/Smoke-Steel-Axe-Throwing-1.png
END:VEVENT
BEGIN:VEVENT
DTSTART;TZID=America/New_York:20240721T120000
DTEND;TZID=America/New_York:20240721T150000
DTSTAMP:20260424T120043
CREATED:20240430T183807Z
LAST-MODIFIED:20240722T210750Z
UID:10000023-1721563200-1721574000@maineveteransproject.org
SUMMARY:Paintball at Maine Military Supply
DESCRIPTION:Come join the MVP team for a fun afternoon of paintball. Maine Military Supply has the masks and rental fees covered and we’ve had a blast for many years.\nVeterans are welcome to bring a guest of choice
URL:https://maineveteransproject.org/event/paintball-at-maine-military-supply/2024-07-21/
LOCATION:Maine Millitray Supply Inc\, 179 Main St\, Holden\, ME\, 04412\, United States
CATEGORIES:Event
ATTACH;FMTTYPE=image/jpeg:https://maineveteransproject.org/wp-content/uploads/2024/04/342971264_1001704374146613_8438984836794529498_n.jpg
END:VEVENT
BEGIN:VEVENT
DTSTART;TZID=America/New_York:20240623T110000
DTEND;TZID=America/New_York:20240623T130000
DTSTAMP:20260424T120043
CREATED:20240430T183807Z
LAST-MODIFIED:20240722T210750Z
UID:10000030-1719140400-1719147600@maineveteransproject.org
SUMMARY:Paintball at Maine Military Supply
DESCRIPTION:Come join the MVP team for a fun afternoon of paintball. Maine Military Supply has the masks and rental fees covered and we’ve had a blast for many years.\nVeterans are welcome to bring a guest of choice
URL:https://maineveteransproject.org/event/paintball-at-maine-military-supply/2024-06-23/
LOCATION:Maine Millitray Supply Inc\, 179 Main St\, Holden\, ME\, 04412\, United States
CATEGORIES:Event
ATTACH;FMTTYPE=image/jpeg:https://maineveteransproject.org/wp-content/uploads/2024/04/342971264_1001704374146613_8438984836794529498_n.jpg
END:VEVENT
BEGIN:VEVENT
DTSTART;TZID=America/New_York:20240519T110000
DTEND;TZID=America/New_York:20240519T130000
DTSTAMP:20260424T120043
CREATED:20240430T183807Z
LAST-MODIFIED:20240722T210750Z
UID:10000027-1716116400-1716123600@maineveteransproject.org
SUMMARY:Paintball at Maine Military Supply
DESCRIPTION:Come join the MVP team for a fun afternoon of paintball. Maine Military Supply has the masks and rental fees covered and we’ve had a blast for many years.\nVeterans are welcome to bring a guest of choice
URL:https://maineveteransproject.org/event/paintball-at-maine-military-supply/2024-05-19/
LOCATION:Maine Millitray Supply Inc\, 179 Main St\, Holden\, ME\, 04412\, United States
CATEGORIES:Event
ATTACH;FMTTYPE=image/jpeg:https://maineveteransproject.org/wp-content/uploads/2024/04/342971264_1001704374146613_8438984836794529498_n.jpg
END:VEVENT
BEGIN:VEVENT
DTSTART;TZID=America/New_York:20240329T080000
DTEND;TZID=America/New_York:20240329T210000
DTSTAMP:20260424T120043
CREATED:20240216T011212Z
LAST-MODIFIED:20240216T011212Z
UID:10000020-1711699200-1711746000@maineveteransproject.org
SUMMARY:Coffee with MVP Vet
DESCRIPTION:Come enjoy coffee with the MVP team and local Veterans. No frills\, just organic camaraderie and fellowship. We plan on having guests stop by discuss benefits\, programs and services available.\nThe coffee is on us\, just come have a great time!\n*Handicap Vets please send us a message in advance so we may accommodate appropriately.
URL:https://maineveteransproject.org/event/coffee-with-mvp-vet/2024-03-29/
LOCATION:Maine Veterans Project\, 207 Parkview Ave\, ME\, 04401\, United States
CATEGORIES:Event
ATTACH;FMTTYPE=image/jpeg:https://maineveteransproject.org/wp-content/uploads/2024/02/423686829_901889888612837_147016816409830145_n.jpg
END:VEVENT
BEGIN:VEVENT
DTSTART;TZID=America/New_York:20240322T080000
DTEND;TZID=America/New_York:20240322T210000
DTSTAMP:20260424T120043
CREATED:20240216T011212Z
LAST-MODIFIED:20240216T011212Z
UID:10000019-1711094400-1711141200@maineveteransproject.org
SUMMARY:Coffee with MVP Vet
DESCRIPTION:Come enjoy coffee with the MVP team and local Veterans. No frills\, just organic camaraderie and fellowship. We plan on having guests stop by discuss benefits\, programs and services available.\nThe coffee is on us\, just come have a great time!\n*Handicap Vets please send us a message in advance so we may accommodate appropriately.
URL:https://maineveteransproject.org/event/coffee-with-mvp-vet/2024-03-22/
LOCATION:Maine Veterans Project\, 207 Parkview Ave\, ME\, 04401\, United States
CATEGORIES:Event
ATTACH;FMTTYPE=image/jpeg:https://maineveteransproject.org/wp-content/uploads/2024/02/423686829_901889888612837_147016816409830145_n.jpg
END:VEVENT
BEGIN:VEVENT
DTSTART;TZID=America/New_York:20240315T080000
DTEND;TZID=America/New_York:20240315T210000
DTSTAMP:20260424T120043
CREATED:20240216T011212Z
LAST-MODIFIED:20240216T011212Z
UID:10000018-1710489600-1710536400@maineveteransproject.org
SUMMARY:Coffee with MVP Vet
DESCRIPTION:Come enjoy coffee with the MVP team and local Veterans. No frills\, just organic camaraderie and fellowship. We plan on having guests stop by discuss benefits\, programs and services available.\nThe coffee is on us\, just come have a great time!\n*Handicap Vets please send us a message in advance so we may accommodate appropriately.
URL:https://maineveteransproject.org/event/coffee-with-mvp-vet/2024-03-15/
LOCATION:Maine Veterans Project\, 207 Parkview Ave\, ME\, 04401\, United States
CATEGORIES:Event
ATTACH;FMTTYPE=image/jpeg:https://maineveteransproject.org/wp-content/uploads/2024/02/423686829_901889888612837_147016816409830145_n.jpg
END:VEVENT
BEGIN:VEVENT
DTSTART;TZID=America/New_York:20240308T080000
DTEND;TZID=America/New_York:20240308T210000
DTSTAMP:20260424T120043
CREATED:20240216T011212Z
LAST-MODIFIED:20240216T011212Z
UID:10000017-1709884800-1709931600@maineveteransproject.org
SUMMARY:Coffee with MVP Vet
DESCRIPTION:Come enjoy coffee with the MVP team and local Veterans. No frills\, just organic camaraderie and fellowship. We plan on having guests stop by discuss benefits\, programs and services available.\nThe coffee is on us\, just come have a great time!\n*Handicap Vets please send us a message in advance so we may accommodate appropriately.
URL:https://maineveteransproject.org/event/coffee-with-mvp-vet/2024-03-08/
LOCATION:Maine Veterans Project\, 207 Parkview Ave\, ME\, 04401\, United States
CATEGORIES:Event
ATTACH;FMTTYPE=image/jpeg:https://maineveteransproject.org/wp-content/uploads/2024/02/423686829_901889888612837_147016816409830145_n.jpg
END:VEVENT
BEGIN:VEVENT
DTSTART;TZID=America/New_York:20231209T150000
DTEND;TZID=America/New_York:20231209T180000
DTSTAMP:20260424T120043
CREATED:20231002T021058Z
LAST-MODIFIED:20231002T021058Z
UID:10000013-1702134000-1702144800@maineveteransproject.org
SUMMARY:Army vs Navy football
DESCRIPTION:Army vs Navy football – December 9th at The Pour House at 3pm\n14 Larkin St\, Bangor\, Maine 04401
URL:https://maineveteransproject.org/event/army-vs-navy-football/
LOCATION:The Pour House\, 14 Larkin St\, Bangor\, ME\, 04401\, United States
CATEGORIES:Event
ATTACH;FMTTYPE=image/png:https://maineveteransproject.org/wp-content/uploads/2023/10/Army-vs-Navy-2.png
END:VEVENT
BEGIN:VEVENT
DTSTART;VALUE=DATE:20231030
DTEND;VALUE=DATE:20231111
DTSTAMP:20260424T120044
CREATED:20230911T151947Z
LAST-MODIFIED:20230911T151947Z
UID:10000010-1698624000-1699660799@maineveteransproject.org
SUMMARY:Food drive with the Cole Transportation Museum
DESCRIPTION:
URL:https://maineveteransproject.org/event/food-drive-with-the-cole-transportation-museum/
LOCATION:Cole Transportation Museum\, 405 Perry Rd\, Bangor\, ME\, 04401\, United States
CATEGORIES:Event
ATTACH;FMTTYPE=image/png:https://maineveteransproject.org/wp-content/uploads/2023/09/FOOD-DRIVE.png
END:VEVENT
BEGIN:VEVENT
DTSTART;TZID=America/New_York:20231020T140000
DTEND;TZID=America/New_York:20231020T170000
DTSTAMP:20260424T120044
CREATED:20231002T020918Z
LAST-MODIFIED:20231002T020918Z
UID:10000012-1697810400-1697821200@maineveteransproject.org
SUMMARY:Axe Throwing
DESCRIPTION:Axe Throwing – October 22nd at Smoke & Steel 2pm to 5pm\n471 Stillwater Ave\, Bangor\, ME 04401
URL:https://maineveteransproject.org/event/axe-throwing/
LOCATION:Smoke and Steel\, 471 Stillwater Ave\, Bangor\, ME\, 04401\, United States
CATEGORIES:Event
ATTACH;FMTTYPE=image/png:https://maineveteransproject.org/wp-content/uploads/2023/10/Smoke-Steel-Axe-Throwing.png
END:VEVENT
END:VCALENDAR