BEGIN:VCALENDAR
VERSION:2.0
PRODID:-//Maine Veterans Project - ECPv6.15.20//NONSGML v1.0//EN
CALSCALE:GREGORIAN
METHOD:PUBLISH
X-ORIGINAL-URL:https://maineveteransproject.org
X-WR-CALDESC:Events for Maine Veterans Project
REFRESH-INTERVAL;VALUE=DURATION:PT1H
X-Robots-Tag:noindex
X-PUBLISHED-TTL:PT1H
BEGIN:VTIMEZONE
TZID:America/New_York
BEGIN:DAYLIGHT
TZOFFSETFROM:-0500
TZOFFSETTO:-0400
TZNAME:EDT
DTSTART:20250309T070000
END:DAYLIGHT
BEGIN:STANDARD
TZOFFSETFROM:-0400
TZOFFSETTO:-0500
TZNAME:EST
DTSTART:20251102T060000
END:STANDARD
BEGIN:DAYLIGHT
TZOFFSETFROM:-0500
TZOFFSETTO:-0400
TZNAME:EDT
DTSTART:20260308T070000
END:DAYLIGHT
BEGIN:STANDARD
TZOFFSETFROM:-0400
TZOFFSETTO:-0500
TZNAME:EST
DTSTART:20261101T060000
END:STANDARD
BEGIN:DAYLIGHT
TZOFFSETFROM:-0500
TZOFFSETTO:-0400
TZNAME:EDT
DTSTART:20270314T070000
END:DAYLIGHT
BEGIN:STANDARD
TZOFFSETFROM:-0400
TZOFFSETTO:-0500
TZNAME:EST
DTSTART:20271107T060000
END:STANDARD
END:VTIMEZONE
BEGIN:VEVENT
DTSTART;TZID=America/New_York:20260409T140000
DTEND;TZID=America/New_York:20260409T180000
DTSTAMP:20260425T064724
CREATED:20260331T141627Z
LAST-MODIFIED:20260331T141627Z
UID:10000058-1775743200-1775757600@maineveteransproject.org
SUMMARY:Food Drive
DESCRIPTION:Food Dr.\, April sixth through the 17th from 2 PM to 6 PM Monday through Friday for more information. Call 207-187-0217 or 207-262-6061.
URL:https://maineveteransproject.org/event/food-drive/2026-04-09/
LOCATION:Old Town Post 75\, 20 North Water St\, Old Town\, ME\, 04468\, United States
CATEGORIES:Event
ATTACH;FMTTYPE=image/png:https://maineveteransproject.org/wp-content/uploads/2026/03/food-drive-old-town-1.png
END:VEVENT
BEGIN:VEVENT
DTSTART;TZID=America/New_York:20260410T140000
DTEND;TZID=America/New_York:20260410T180000
DTSTAMP:20260425T064724
CREATED:20260331T141627Z
LAST-MODIFIED:20260331T141627Z
UID:10000059-1775829600-1775844000@maineveteransproject.org
SUMMARY:Food Drive
DESCRIPTION:Food Dr.\, April sixth through the 17th from 2 PM to 6 PM Monday through Friday for more information. Call 207-187-0217 or 207-262-6061.
URL:https://maineveteransproject.org/event/food-drive/2026-04-10/
LOCATION:Old Town Post 75\, 20 North Water St\, Old Town\, ME\, 04468\, United States
CATEGORIES:Event
ATTACH;FMTTYPE=image/png:https://maineveteransproject.org/wp-content/uploads/2026/03/food-drive-old-town-1.png
END:VEVENT
BEGIN:VEVENT
DTSTART;TZID=America/New_York:20260412T120000
DTEND;TZID=America/New_York:20260412T150000
DTSTAMP:20260425T064724
CREATED:20260331T140927Z
LAST-MODIFIED:20260331T140927Z
UID:10000054-1775995200-1776006000@maineveteransproject.org
SUMMARY:'Till I Get Home - Veterans Benefit and Release Event
DESCRIPTION:Live music featuring Rob Bibber.  With special guests\, Jake\, Irish\,\, and Shiny Objects.  Proceeds benefiting Maine veterans project. Donations accepted at the door.
URL:https://maineveteransproject.org/event/till-i-get-home-veterans-benefit-and-release-event/
LOCATION:Elks Lodge\, 108 Odlin Rd\, Bangor\, ME\, 04401\, United States
CATEGORIES:Event,Fundraiser
ATTACH;FMTTYPE=image/png:https://maineveteransproject.org/wp-content/uploads/2026/03/1000012870-1.png
END:VEVENT
BEGIN:VEVENT
DTSTART;TZID=America/New_York:20260413T140000
DTEND;TZID=America/New_York:20260413T180000
DTSTAMP:20260425T064724
CREATED:20260331T141627Z
LAST-MODIFIED:20260331T141627Z
UID:10000060-1776088800-1776103200@maineveteransproject.org
SUMMARY:Food Drive
DESCRIPTION:Food Dr.\, April sixth through the 17th from 2 PM to 6 PM Monday through Friday for more information. Call 207-187-0217 or 207-262-6061.
URL:https://maineveteransproject.org/event/food-drive/2026-04-13/
LOCATION:Old Town Post 75\, 20 North Water St\, Old Town\, ME\, 04468\, United States
CATEGORIES:Event
ATTACH;FMTTYPE=image/png:https://maineveteransproject.org/wp-content/uploads/2026/03/food-drive-old-town-1.png
END:VEVENT
BEGIN:VEVENT
DTSTART;TZID=America/New_York:20260414T140000
DTEND;TZID=America/New_York:20260414T180000
DTSTAMP:20260425T064724
CREATED:20260331T141627Z
LAST-MODIFIED:20260331T141627Z
UID:10000061-1776175200-1776189600@maineveteransproject.org
SUMMARY:Food Drive
DESCRIPTION:Food Dr.\, April sixth through the 17th from 2 PM to 6 PM Monday through Friday for more information. Call 207-187-0217 or 207-262-6061.
URL:https://maineveteransproject.org/event/food-drive/2026-04-14/
LOCATION:Old Town Post 75\, 20 North Water St\, Old Town\, ME\, 04468\, United States
CATEGORIES:Event
ATTACH;FMTTYPE=image/png:https://maineveteransproject.org/wp-content/uploads/2026/03/food-drive-old-town-1.png
END:VEVENT
BEGIN:VEVENT
DTSTART;TZID=America/New_York:20260415T140000
DTEND;TZID=America/New_York:20260415T180000
DTSTAMP:20260425T064724
CREATED:20260331T141627Z
LAST-MODIFIED:20260331T141627Z
UID:10000062-1776261600-1776276000@maineveteransproject.org
SUMMARY:Food Drive
DESCRIPTION:Food Dr.\, April sixth through the 17th from 2 PM to 6 PM Monday through Friday for more information. Call 207-187-0217 or 207-262-6061.
URL:https://maineveteransproject.org/event/food-drive/2026-04-15/
LOCATION:Old Town Post 75\, 20 North Water St\, Old Town\, ME\, 04468\, United States
CATEGORIES:Event
ATTACH;FMTTYPE=image/png:https://maineveteransproject.org/wp-content/uploads/2026/03/food-drive-old-town-1.png
END:VEVENT
BEGIN:VEVENT
DTSTART;TZID=America/New_York:20260416T140000
DTEND;TZID=America/New_York:20260416T180000
DTSTAMP:20260425T064724
CREATED:20260331T141627Z
LAST-MODIFIED:20260331T141627Z
UID:10000063-1776348000-1776362400@maineveteransproject.org
SUMMARY:Food Drive
DESCRIPTION:Food Dr.\, April sixth through the 17th from 2 PM to 6 PM Monday through Friday for more information. Call 207-187-0217 or 207-262-6061.
URL:https://maineveteransproject.org/event/food-drive/2026-04-16/
LOCATION:Old Town Post 75\, 20 North Water St\, Old Town\, ME\, 04468\, United States
CATEGORIES:Event
ATTACH;FMTTYPE=image/png:https://maineveteransproject.org/wp-content/uploads/2026/03/food-drive-old-town-1.png
END:VEVENT
BEGIN:VEVENT
DTSTART;TZID=America/New_York:20260417T140000
DTEND;TZID=America/New_York:20260417T180000
DTSTAMP:20260425T064724
CREATED:20260331T141627Z
LAST-MODIFIED:20260331T141627Z
UID:10000064-1776434400-1776448800@maineveteransproject.org
SUMMARY:Food Drive
DESCRIPTION:Food Dr.\, April sixth through the 17th from 2 PM to 6 PM Monday through Friday for more information. Call 207-187-0217 or 207-262-6061.
URL:https://maineveteransproject.org/event/food-drive/2026-04-17/
LOCATION:Old Town Post 75\, 20 North Water St\, Old Town\, ME\, 04468\, United States
CATEGORIES:Event
ATTACH;FMTTYPE=image/png:https://maineveteransproject.org/wp-content/uploads/2026/03/food-drive-old-town-1.png
END:VEVENT
BEGIN:VEVENT
DTSTART;TZID=America/New_York:20260605T120000
DTEND;TZID=America/New_York:20260605T170000
DTSTAMP:20260425T064724
CREATED:20260417T205744Z
LAST-MODIFIED:20260417T210225Z
UID:10000066-1780660800-1780678800@maineveteransproject.org
SUMMARY:Vet Center - Barbecue Hot Dogs & Burgers
DESCRIPTION:BARBECUE \nHOTDOGS & BURGERS \nFRIDAY\, JUNE 5\, NOON \nFAMILIES WELCOME \nCOME HUNGRY AND READY TO PARTY \n615 ODLIN RD SUITE 03\, \nBANGOR\, ME 04401
URL:https://maineveteransproject.org/event/vet-center-barbecue-hot-dogs-burgers/
LOCATION:Vet Center\, 615 Odlin Rd Suite 3\, Bangor\, ME\, 04401\, United States
CATEGORIES:Event
ATTACH;FMTTYPE=image/png:https://maineveteransproject.org/wp-content/uploads/2026/04/June-summer-cook-out-2026.png
END:VEVENT
BEGIN:VEVENT
DTSTART;TZID=America/New_York:20260620T090000
DTEND;TZID=America/New_York:20260620T170000
DTSTAMP:20260425T064724
CREATED:20260417T210417Z
LAST-MODIFIED:20260421T003803Z
UID:10000068-1781946000-1781974800@maineveteransproject.org
SUMMARY:Annual Tire Flip Event - Fundraising for Maine Veterans Project
DESCRIPTION:Annual Tire Flip Event – Fundraising for Maine Veterans Project \n  \nOrganizer: Mike Laliberte \n  \nWhat: The 12th Annual Tire Flip event is scheduled for this summer. This year marks the 6th consecutive year the event will serve as a dedicated fundraiser for the Maine Veterans Project (MVP)\, a vital organization supporting our veterans. The Tire Flip is a popular community event that challenges Mike to physically flip a large tire weighing 400lb for a distance of 1 mile\, combining fitness\, community spirit\, and philanthropy. \n  \nWhen: The event will take place on Saturday\, June 20th\, beginning bright and early at 9:00 AM. \n  \nWhere: The event will be hosted at 22 Maple Street. \n  \nPurpose: All proceeds raised\, sponsorships\, and on-site donations will go directly to the Maine Veterans Project (MVP). These funds are crucial for supporting MVP’s mission\, which includes providing assistance\, resources\, and community engagement opportunities for Maine’s veterans and their families. \n  \nCall to Action: We encourage all community members to participate\, sponsor MIke\, or simply come out to cheer him on and support this worthy cause. Get ready to see that tire get flipped and make a difference in a veteran’s life!
URL:https://maineveteransproject.org/event/annual-tire-flip-event-fundraising-for-maine-veterans-project/
LOCATION:22 Maple Street.\, 22 Maple Street.\, Bangor\, ME\, 04401\, United States
CATEGORIES:Event,Fundraiser
ATTACH;FMTTYPE=image/png:https://maineveteransproject.org/wp-content/uploads/2026/04/Tire-Flip-Fundraiser-Poster.png
END:VEVENT
BEGIN:VEVENT
DTSTART;TZID=America/New_York:20260724T120000
DTEND;TZID=America/New_York:20260724T170000
DTSTAMP:20260425T064724
CREATED:20260417T210059Z
LAST-MODIFIED:20260417T210059Z
UID:10000067-1784894400-1784912400@maineveteransproject.org
SUMMARY:Vet Center - Barbecue Hot Dogs & Burgers
DESCRIPTION:BARBECUE \nHOTDOGS & BURGERS \nFRIDAY\, July 24\, NOON \nFAMILIES WELCOME \nCOME HUNGRY AND READY TO PARTY \n615 ODLIN RD SUITE 03\, \nBANGOR\, ME 04401
URL:https://maineveteransproject.org/event/vet-center-barbecue-hot-dogs-burgers-2/
LOCATION:Vet Center\, 615 Odlin Rd Suite 3\, Bangor\, ME\, 04401\, United States
CATEGORIES:Event
ATTACH;FMTTYPE=image/png:https://maineveteransproject.org/wp-content/uploads/2026/04/July-summer-cook-out-2026-2.png
END:VEVENT
BEGIN:VEVENT
DTSTART;TZID=America/New_York:20260815T090000
DTEND;TZID=America/New_York:20260815T130000
DTSTAMP:20260425T064724
CREATED:20260331T141907Z
LAST-MODIFIED:20260331T141947Z
UID:10000065-1786784400-1786798800@maineveteransproject.org
SUMMARY:Sweat for the Vets - Field Day Fundraiser
DESCRIPTION:Sweat for the vets – field day fundraiserACFT – Style Competition.  Benefiting Maine paws for Veterans and Maine Veterans Project.
URL:https://maineveteransproject.org/event/sweat-for-the-vets-field-day-fundraiser/
LOCATION:UNE Portland Campus\, 716 Stevens Ave\, Portland\, ME\, 04103\, United States
CATEGORIES:Event
ATTACH;FMTTYPE=image/jpeg:https://maineveteransproject.org/wp-content/uploads/2026/03/Sweat-for-the-Vets-Poster-US-1.jpg
END:VEVENT
END:VCALENDAR