BEGIN:VCALENDAR
VERSION:2.0
PRODID:-//Maine Veterans Project - ECPv6.15.20//NONSGML v1.0//EN
CALSCALE:GREGORIAN
METHOD:PUBLISH
X-ORIGINAL-URL:https://maineveteransproject.org
X-WR-CALDESC:Events for Maine Veterans Project
REFRESH-INTERVAL;VALUE=DURATION:PT1H
X-Robots-Tag:noindex
X-PUBLISHED-TTL:PT1H
BEGIN:VTIMEZONE
TZID:America/New_York
BEGIN:DAYLIGHT
TZOFFSETFROM:-0500
TZOFFSETTO:-0400
TZNAME:EDT
DTSTART:20250309T070000
END:DAYLIGHT
BEGIN:STANDARD
TZOFFSETFROM:-0400
TZOFFSETTO:-0500
TZNAME:EST
DTSTART:20251102T060000
END:STANDARD
BEGIN:DAYLIGHT
TZOFFSETFROM:-0500
TZOFFSETTO:-0400
TZNAME:EDT
DTSTART:20260308T070000
END:DAYLIGHT
BEGIN:STANDARD
TZOFFSETFROM:-0400
TZOFFSETTO:-0500
TZNAME:EST
DTSTART:20261101T060000
END:STANDARD
BEGIN:DAYLIGHT
TZOFFSETFROM:-0500
TZOFFSETTO:-0400
TZNAME:EDT
DTSTART:20270314T070000
END:DAYLIGHT
BEGIN:STANDARD
TZOFFSETFROM:-0400
TZOFFSETTO:-0500
TZNAME:EST
DTSTART:20271107T060000
END:STANDARD
END:VTIMEZONE
BEGIN:VEVENT
DTSTART;TZID=America/New_York:20260815T090000
DTEND;TZID=America/New_York:20260815T130000
DTSTAMP:20260425T075327
CREATED:20260331T141907Z
LAST-MODIFIED:20260331T141947Z
UID:10000065-1786784400-1786798800@maineveteransproject.org
SUMMARY:Sweat for the Vets - Field Day Fundraiser
DESCRIPTION:Sweat for the vets – field day fundraiserACFT – Style Competition.  Benefiting Maine paws for Veterans and Maine Veterans Project.
URL:https://maineveteransproject.org/event/sweat-for-the-vets-field-day-fundraiser/
LOCATION:UNE Portland Campus\, 716 Stevens Ave\, Portland\, ME\, 04103\, United States
CATEGORIES:Event
ATTACH;FMTTYPE=image/jpeg:https://maineveteransproject.org/wp-content/uploads/2026/03/Sweat-for-the-Vets-Poster-US-1.jpg
END:VEVENT
END:VCALENDAR