BEGIN:VCALENDAR
VERSION:2.0
PRODID:-//Maine Veterans Project - ECPv6.15.20//NONSGML v1.0//EN
CALSCALE:GREGORIAN
METHOD:PUBLISH
X-WR-CALNAME:Maine Veterans Project
X-ORIGINAL-URL:https://maineveteransproject.org
X-WR-CALDESC:Events for Maine Veterans Project
REFRESH-INTERVAL;VALUE=DURATION:PT1H
X-Robots-Tag:noindex
X-PUBLISHED-TTL:PT1H
BEGIN:VTIMEZONE
TZID:America/New_York
BEGIN:DAYLIGHT
TZOFFSETFROM:-0500
TZOFFSETTO:-0400
TZNAME:EDT
DTSTART:20220313T070000
END:DAYLIGHT
BEGIN:STANDARD
TZOFFSETFROM:-0400
TZOFFSETTO:-0500
TZNAME:EST
DTSTART:20221106T060000
END:STANDARD
BEGIN:DAYLIGHT
TZOFFSETFROM:-0500
TZOFFSETTO:-0400
TZNAME:EDT
DTSTART:20230312T070000
END:DAYLIGHT
BEGIN:STANDARD
TZOFFSETFROM:-0400
TZOFFSETTO:-0500
TZNAME:EST
DTSTART:20231105T060000
END:STANDARD
BEGIN:DAYLIGHT
TZOFFSETFROM:-0500
TZOFFSETTO:-0400
TZNAME:EDT
DTSTART:20240310T070000
END:DAYLIGHT
BEGIN:STANDARD
TZOFFSETFROM:-0400
TZOFFSETTO:-0500
TZNAME:EST
DTSTART:20241103T060000
END:STANDARD
END:VTIMEZONE
BEGIN:VEVENT
DTSTART;TZID=America/New_York:20230701T083000
DTEND;TZID=America/New_York:20230701T170000
DTSTAMP:20260424T225431
CREATED:20230629T193613Z
LAST-MODIFIED:20230629T193635Z
UID:10000003-1688200200-1688230800@maineveteransproject.org
SUMMARY:We Ride For Vets
DESCRIPTION:Put your kickstands up and Ride for Vets with the Jarheads and Central Maine Harley-Davidson to raise money for Maine Veteran’s Project! There will be a self lead ride hosted by Dirigo Crew Jarheads MC\, Axe Throwing with Smoke and Steal along with their food truck and more! Guitars for Vets and Live music from 2PM-5PM! Darlings Ice Cream Truck! Enter your bike in the the United Bikers Of Maine bike show and toss a bean bag in our corn hole tournament! Our vets did there job\, rain or shine so that just what this event is going to be! You’re not going to want to miss it!
URL:https://maineveteransproject.org/event/we-ride-for-vets/
LOCATION:Central Maine Harley\, 2387 Route 2\, Hermon\, ME\, 04401\, United States
CATEGORIES:Event
ATTACH;FMTTYPE=image/jpeg:https://maineveteransproject.org/wp-content/uploads/2023/06/354257410_1126646571594053_6350869349652882726_n.jpg
END:VEVENT
END:VCALENDAR