BEGIN:VCALENDAR
VERSION:2.0
PRODID:-//Maine Veterans Project - ECPv6.15.20//NONSGML v1.0//EN
CALSCALE:GREGORIAN
METHOD:PUBLISH
X-ORIGINAL-URL:https://maineveteransproject.org
X-WR-CALDESC:Events for Maine Veterans Project
REFRESH-INTERVAL;VALUE=DURATION:PT1H
X-Robots-Tag:noindex
X-PUBLISHED-TTL:PT1H
BEGIN:VTIMEZONE
TZID:America/New_York
BEGIN:DAYLIGHT
TZOFFSETFROM:-0500
TZOFFSETTO:-0400
TZNAME:EDT
DTSTART:20230312T070000
END:DAYLIGHT
BEGIN:STANDARD
TZOFFSETFROM:-0400
TZOFFSETTO:-0500
TZNAME:EST
DTSTART:20231105T060000
END:STANDARD
BEGIN:DAYLIGHT
TZOFFSETFROM:-0500
TZOFFSETTO:-0400
TZNAME:EDT
DTSTART:20240310T070000
END:DAYLIGHT
BEGIN:STANDARD
TZOFFSETFROM:-0400
TZOFFSETTO:-0500
TZNAME:EST
DTSTART:20241103T060000
END:STANDARD
BEGIN:DAYLIGHT
TZOFFSETFROM:-0500
TZOFFSETTO:-0400
TZNAME:EDT
DTSTART:20250309T070000
END:DAYLIGHT
BEGIN:STANDARD
TZOFFSETFROM:-0400
TZOFFSETTO:-0500
TZNAME:EST
DTSTART:20251102T060000
END:STANDARD
END:VTIMEZONE
BEGIN:VEVENT
DTSTART;TZID=America/New_York:20240629T080000
DTEND;TZID=America/New_York:20240629T170000
DTSTAMP:20260424T214115
CREATED:20240523T024547Z
LAST-MODIFIED:20240614T001830Z
UID:10000029-1719648000-1719680400@maineveteransproject.org
SUMMARY:Emerging Leaders Network's First Annual Charity Golf Tournament
DESCRIPTION:Please join us for our Emerging Leaders Network’s First Annual Charity Golf Tournament\, which will benefit the Maine Veterans Project! The Tournament will be held on Saturday\, June 29th\, 2024\, at Jato Highlands Golf Course. Registration begins at 8 a.m.\, and the Tee-off is at 9 a.m.\n18 Hole\, 4 Person Scramble$70/person- Meal and Registration Included\nPlease email Jaeden.folster@eurovia.us or call 207-561-7536 with your team. If you would like to play but don’t have a team\, we will find one for you!\nSponsorships are available\, and raffles and beverages will be available for donations.\nWe look forward to seeing you there!
URL:https://maineveteransproject.org/event/emerging-leaders-networks-first-annual-charity-golf-tournament/
LOCATION:Jato Highlands Golf Course\, 175 Town Farm Rd\, Lincoln\, ME\, 04457\, United States
ATTACH;FMTTYPE=image/jpeg:https://maineveteransproject.org/wp-content/uploads/2024/05/442405184_1277270626778661_5709880779170945021_n.png.jpeg
END:VEVENT
END:VCALENDAR